BEGIN:VCALENDAR
VERSION:2.0
CALSCALE:GREGORIAN
PRODID:-//Diputació de Barcelona//DibaCMS//EN
BEGIN:VEVENT
UID:6643
DTSTAMP:20260423T165754
DTSTART:20260508T000000
DTEND:20260510T000000
SUMMARY:Cuida't Artés 2026
LOCATION:
METHOD:PUBLISH
X-WR-CALNAME:artes@artes.cat
X-WR-TIMEZONE:Europe/Madrid
DESCRIPTION:Programa complet a cuidat.artes.cat

URI:https://www.artes.cat/actualitat/agenda/cuidat-artes-2026.html
CLASS:PUBLIC
END:VEVENT
END:VCALENDAR
