BEGIN:VCALENDAR
VERSION:2.0
CALSCALE:GREGORIAN
PRODID:-//Diputació de Barcelona//DibaCMS//EN
BEGIN:VEVENT
UID:6646
DTSTAMP:20260423T165229
DTSTART:20260423T110000
DTEND:20260423T130000
SUMMARY:Espectacle infantil "La bella i la bèstia"
LOCATION:Plaça de l'Església 08271 Artés
METHOD:PUBLISH
X-WR-CALNAME:artes@artes.cat
X-WR-TIMEZONE:Europe/Madrid
DESCRIPTION:Activitat englobada dins els actes de Sant Jordi 2026.

URI:https://www.artes.cat/actualitat/agenda/espectacle-infantil-la-bella-i-la-bestia.html
CLASS:PUBLIC
END:VEVENT
END:VCALENDAR
