BEGIN:VCALENDAR
VERSION:2.0
CALSCALE:GREGORIAN
PRODID:-//Diputació de Barcelona//DibaCMS//EN
BEGIN:VEVENT
UID:6647
DTSTAMP:20260423T150730
DTSTART:20260423T151500
DTEND:20260423T171500
SUMMARY:Espectacle "Disco World Tour" per a la mainada
LOCATION:Passeig Diagonal, s/n 08271 Artés
METHOD:PUBLISH
X-WR-CALNAME:artes@artes.cat
X-WR-TIMEZONE:Europe/Madrid
DESCRIPTION:Activitat englobada dins els actes de Sant Jordi 2026.

URI:https://www.artes.cat/actualitat/agenda/espectacle-disco-world-tour-per-a-la-mainada.html
CLASS:PUBLIC
END:VEVENT
END:VCALENDAR
