BEGIN:VCALENDAR
VERSION:2.0
CALSCALE:GREGORIAN
PRODID:-//Diputació de Barcelona//DibaCMS//EN
BEGIN:VEVENT
UID:6648
DTSTAMP:20260423T151330
DTSTART:20260423T173000
DTEND:20260423T183000
SUMMARY:Hora del conte, "Rondalla va, mentida ve"
LOCATION:Plaça de l'Església 08271 Artés
METHOD:PUBLISH
X-WR-CALNAME:artes@artes.cat
X-WR-TIMEZONE:Europe/Madrid
DESCRIPTION:Activitat englobada dins els actes de Sant Jordi 2026.

URI:https://www.artes.cat/actualitat/agenda/hora-del-conte-rondalla-va-mentida-ve.html
CLASS:PUBLIC
END:VEVENT
END:VCALENDAR
