BEGIN:VCALENDAR
VERSION:2.0
CALSCALE:GREGORIAN
PRODID:-//Diputació de Barcelona//DibaCMS//EN
BEGIN:VEVENT
UID:6650
DTSTAMP:20260423T183800
DTSTART:20260429T173000
DTEND:20260429T193000
SUMMARY:Taller creatiu "Llibre estampat"
LOCATION:Les Parres, s/n (Complex Cultural Cal Sitges) 08271 Artés
METHOD:PUBLISH
X-WR-CALNAME:artes@artes.cat
X-WR-TIMEZONE:Europe/Madrid
DESCRIPTION:Inscripcions a la Biblioteca d'Artés (màxim 20 participants), a partir de 8 anys.

URI:https://www.artes.cat/actualitat/agenda/taller-creatiu-llibre-estampat.html
CLASS:PUBLIC
END:VEVENT
END:VCALENDAR
