BEGIN:VCALENDAR
VERSION:2.0
CALSCALE:GREGORIAN
PRODID:-//Diputació de Barcelona//DibaCMS//EN
BEGIN:VEVENT
UID:6652
DTSTAMP:20260423T151041
DTSTART:20260423T170000
DTEND:20260423T190000
SUMMARY:Taller de punts de llibre
LOCATION:Plaça de l'Església 08271 Artés
METHOD:PUBLISH
X-WR-CALNAME:artes@artes.cat
X-WR-TIMEZONE:Europe/Madrid
DESCRIPTION:Activitat englobada dins els actes de Sant Jordi 2026.

URI:https://www.artes.cat/actualitat/agenda/taller-de-punts-de-llibre.html
CLASS:PUBLIC
END:VEVENT
END:VCALENDAR
