BEGIN:VCALENDAR
VERSION:2.0
CALSCALE:GREGORIAN
PRODID:-//Diputació de Barcelona//DibaCMS//EN
BEGIN:VEVENT
UID:6658
DTSTAMP:20260423T165825
DTSTART:20260425T110000
DTEND:20260425T140000
SUMMARY:Acte d'homenatge i col·locació de les llambordes Stolpersteine a Artés
LOCATION:Plaça Francesc Blancher 
METHOD:PUBLISH
X-WR-CALNAME:artes@artes.cat
X-WR-TIMEZONE:Europe/Madrid
DESCRIPTION:Més la informació del projecte a la notícia.

URI:https://www.artes.cat/actualitat/agenda/acte-dhomenatge-i-collocacio-de-les-llambordes-stolpersteine-a-artes.html
CLASS:PUBLIC
END:VEVENT
END:VCALENDAR
