BEGIN:VCALENDAR
VERSION:2.0
CALSCALE:GREGORIAN
PRODID:-//Diputació de Barcelona//DibaCMS//EN
BEGIN:VEVENT
UID:6664
DTSTAMP:20260423T151316
DTSTART:20260506T190000
DTEND:20260506T210000
SUMMARY:Presentació del llibre "Rastres de fum" de Montserrat Vilarmau
LOCATION:Les Parres, s/n (Complex Cultural Cal Sitges) 08271 Artés
METHOD:PUBLISH
X-WR-CALNAME:artes@artes.cat
X-WR-TIMEZONE:Europe/Madrid
DESCRIPTION:
URI:https://www.artes.cat/actualitat/agenda/presentacio-del-llibre-rastres-de-fum-de-montserrat-vilarmau.html
CLASS:PUBLIC
END:VEVENT
END:VCALENDAR
