BEGIN:VCALENDAR
VERSION:2.0
CALSCALE:GREGORIAN
PRODID:-//Diputació de Barcelona//DibaCMS//EN
BEGIN:VEVENT
UID:6665
DTSTAMP:20260423T165953
DTSTART:20260514T173000
DTEND:20260514T193000
SUMMARY:Taller Bibliolab: Muntanyes russes per a bales
LOCATION:Les Parres, s/n (Complex Cultural Cal Sitges) 08271 Artés
METHOD:PUBLISH
X-WR-CALNAME:artes@artes.cat
X-WR-TIMEZONE:Europe/Madrid
DESCRIPTION:Adreçat a infants de més de 5 anys.
Cal inscripció prèvia a la biblioteca.

URI:https://www.artes.cat/actualitat/agenda/taller-bibliolab-muntanyes-russes-per-a-bales.html
CLASS:PUBLIC
END:VEVENT
END:VCALENDAR
