BEGIN:VCALENDAR
VERSION:2.0
CALSCALE:GREGORIAN
PRODID:-//Diputació de Barcelona//DibaCMS//EN
BEGIN:VEVENT
UID:6666
DTSTAMP:20260423T150801
DTSTART:20260514T203000
DTEND:20260514T223000
SUMMARY:Artés Book Club, club del llibre en anglès
LOCATION:Les Parres, s/n 08271 Artés
METHOD:PUBLISH
X-WR-CALNAME:artes@artes.cat
X-WR-TIMEZONE:Europe/Madrid
DESCRIPTION:49th session, "Girl with a Pearl earring" by Tracy Chevalier.
Més informació i inscripcions a la biblioteca.

URI:https://www.artes.cat/actualitat/agenda/artes-book-club-club-del-llibre-en-angles.html
CLASS:PUBLIC
END:VEVENT
END:VCALENDAR
