BEGIN:VCALENDAR
VERSION:2.0
CALSCALE:GREGORIAN
PRODID:-//Diputació de Barcelona//DibaCMS//EN
BEGIN:VEVENT
UID:6667
DTSTAMP:20260423T165632
DTSTART:20260521T203000
DTEND:20260521T223000
SUMMARY:Xerrada en anglès "Teaching (and learning) English for 35 years"
LOCATION:
METHOD:PUBLISH
X-WR-CALNAME:artes@artes.cat
X-WR-TIMEZONE:Europe/Madrid
DESCRIPTION:A càrrec de Lluís Bach.

URI:https://www.artes.cat/actualitat/agenda/xerrada-en-angles-teaching-and-learning-english-for-35-years.html
CLASS:PUBLIC
END:VEVENT
END:VCALENDAR
