BEGIN:VCALENDAR
VERSION:2.0
CALSCALE:GREGORIAN
PRODID:-//Diputació de Barcelona//DibaCMS//EN
BEGIN:VEVENT
UID:6668
DTSTAMP:20260423T151305
DTSTART:20260528T193000
DTEND:20260528T213000
SUMMARY:Club de lectura "El dibuixant d'indianes" d’Imma Cortina
LOCATION:Les Parres, s/n (Complex Cultural Cal Sitges) 08271 Artés
METHOD:PUBLISH
X-WR-CALNAME:artes@artes.cat
X-WR-TIMEZONE:Europe/Madrid
DESCRIPTION:Amb la presència de l’autor.
Amb la col·laboració de l’Institució de les Lletres Catalanes.

URI:https://www.artes.cat/actualitat/agenda/club-de-lectura-el-dibuixant-dindianes-dimma-cortina.html
CLASS:PUBLIC
END:VEVENT
END:VCALENDAR
